BEGIN:VCALENDAR
VERSION:2.0
PRODID:-//CLEF - ECPv5.11.0//NONSGML v1.0//EN
CALSCALE:GREGORIAN
METHOD:PUBLISH
X-WR-CALNAME:CLEF
X-ORIGINAL-URL:https://association-clef.ch
X-WR-CALDESC:évènements pour CLEF
BEGIN:VTIMEZONE
TZID:Europe/Paris
BEGIN:DAYLIGHT
TZOFFSETFROM:+0100
TZOFFSETTO:+0200
TZNAME:CEST
DTSTART:20200329T010000
END:DAYLIGHT
BEGIN:STANDARD
TZOFFSETFROM:+0200
TZOFFSETTO:+0100
TZNAME:CET
DTSTART:20201025T010000
END:STANDARD
END:VTIMEZONE
BEGIN:VEVENT
DTSTART;VALUE=DATE:20200208
DTEND;VALUE=DATE:20200209
DTSTAMP:20260422T200146
CREATED:20191210T140515Z
LAST-MODIFIED:20200110T180134Z
UID:64-1581120000-1581206399@association-clef.ch
SUMMARY:Vote du 8 février -  Oui à la norme pénale élargie
DESCRIPTION:Le Conseil fédéral et le Parlement recommandent de voter oui à la modification du Code pénal et du Code pénal militaire afin de sanctionner les actes de propagande ou l’incitation à la haine ciblant des personne en raison de leur orientation sexuelle.
URL:https://association-clef.ch/event/vote-du-8-fevrier-non-a-lhomophobie/
LOCATION:Neuchâtel\, Suisse
CATEGORIES:manifestation
ATTACH;FMTTYPE=image/jpeg:https://association-clef.ch/wp-content/uploads/2019/12/8fev.jpg
END:VEVENT
END:VCALENDAR