BEGIN:VCALENDAR
VERSION:2.0
PRODID:-//CLEF - ECPv5.11.0//NONSGML v1.0//EN
CALSCALE:GREGORIAN
METHOD:PUBLISH
X-WR-CALNAME:CLEF
X-ORIGINAL-URL:https://association-clef.ch
X-WR-CALDESC:évènements pour CLEF
BEGIN:VTIMEZONE
TZID:Europe/Paris
BEGIN:DAYLIGHT
TZOFFSETFROM:+0100
TZOFFSETTO:+0200
TZNAME:CEST
DTSTART:20200329T010000
END:DAYLIGHT
BEGIN:STANDARD
TZOFFSETFROM:+0200
TZOFFSETTO:+0100
TZNAME:CET
DTSTART:20201025T010000
END:STANDARD
END:VTIMEZONE
BEGIN:VEVENT
DTSTART;VALUE=DATE:20200308
DTEND;VALUE=DATE:20200309
DTSTAMP:20260422T201051
CREATED:20200302T122154Z
LAST-MODIFIED:20200302T122154Z
UID:353-1583625600-1583711999@association-clef.ch
SUMMARY:Journée internationale des droits des femmes
DESCRIPTION:Cher.ère.x.s tout.e.x.s\, \nLe programme du 8 mars 2020 à Neuchâtel organisé par le @cngf2019 est sorti ! Pour l’occasion\, le CLEF* a préparé une brochure pour soutenir l’événement et pour que nous soyons nombreu.x.ses à se mobiliser en cette journée internationale du droit des femme.x.s !\nLe CLEF* sera présent à la Place du Port 4 ce dimanche 8 mars 2020 pour prendre la parole et pour dénoncer les inégalités et les logiques patriarcales qui caractérisent le monde de l’université et la société en général. \nRassemblons-nous pour cette journée de mobilisation féministe !! \nFéministement vôtres\, \nLes membre.x.s du CLEF* \nPlus d’info sur: https://www.grevefeministene.com \n#8mars2020 #journéeinternationaledudroitdesfemmexs #clef*unine #clef #uninegrevedesfemmexs
URL:https://association-clef.ch/event/journee-internationale-des-droits-des-femmes/
LOCATION:Place du port Neuchâtel\, Place du Port 4\, Neuchâtel\, 2000\, Suisse
CATEGORIES:manifestation
ATTACH;FMTTYPE=image/jpeg:https://association-clef.ch/wp-content/uploads/2020/03/8MarsInstagram.jpg
END:VEVENT
END:VCALENDAR