BEGIN:VCALENDAR
VERSION:2.0
PRODID:-//CLEF - ECPv5.11.0//NONSGML v1.0//EN
CALSCALE:GREGORIAN
METHOD:PUBLISH
X-WR-CALNAME:CLEF
X-ORIGINAL-URL:https://association-clef.ch
X-WR-CALDESC:évènements pour CLEF
BEGIN:VTIMEZONE
TZID:Europe/Paris
BEGIN:DAYLIGHT
TZOFFSETFROM:+0100
TZOFFSETTO:+0200
TZNAME:CEST
DTSTART:20200329T010000
END:DAYLIGHT
BEGIN:STANDARD
TZOFFSETFROM:+0200
TZOFFSETTO:+0100
TZNAME:CET
DTSTART:20201025T010000
END:STANDARD
END:VTIMEZONE
BEGIN:VEVENT
DTSTART;TZID=Europe/Paris:20200116T190000
DTEND;TZID=Europe/Paris:20200116T210000
DTSTAMP:20260422T200241
CREATED:20200116T085038Z
LAST-MODIFIED:20200116T085132Z
UID:331-1579201200-1579208400@association-clef.ch
SUMMARY:Invitation à venir discuter du thème "Corps formatés\, transformés\, ajustés"
DESCRIPTION:Le NQF vous invite à venir discuter du thème « Corps formatés\, transformés\, ajustés » ce jeudi 16 janvier 2020 à 19h. La discussion sera introduite par Hélène Martin et Marta Roca i Escoda à partir du livre Sexuer le corps qu’elles ont édité\, ainsi que par Nadia Lamamra et Ellen Hertz à partir du dernier numéro de NQF\, Le physique de l’emploi.\nSous la forme d’un Café d’Antipodes\, la rencontre aura lieu au Tournesol\, avenue d’Echallens 44 à Lausanne\, où vous pourrez grignoter quelque chose et acquérir les deux livres! \nLe physique de l’emploi\nVient de paraître aux Éditions Antipodes. Volume 38\, n° 2\, 2019\, coordonné par Patricia Roux\, Ellen Hertz\, Nadia Lamamra et Françoise Messant.\nCe numéro de NQF s’intéresse à la construction des corps au travail\, disciplinés par les systèmes de genre et de classe. Quatre articles du Grand angle examinent cette modélisation des corps dans des métiers de production et de service\, au plus près de ce que vivent les serveuses d’une grande chaîne de restauration populaire (Marie Mathieu)\, les grooms et les concierges d’un hôtel de luxe (Amélie Beaumont)\, des bouchers (Isabelle Zinn) et des apprenti·e·s se formant respectivement dans les métiers de l’automobile et de la coiffure (Sophie Denave et Fanny Renard). Les auteures analysent les transformations corporelles auxquelles conduisent les prescriptions des entreprises et l’exercice d’un travail souvent pénible\, ainsi que les stratégies des employé·e·s pour s’en accommoder ou y résister. L’ensemble du dossier rend compte des différents modèles du féminin et du masculin qui sont mobilisés pour définir le physique de l’emploi qu’elles et ils se doivent d’acquérir. \nSexuer le corps\nVient de paraître aux Éditions HETSL. Cahier 54\, 2019\, sous la direction d’Hélène Martin et Marta Roca i Escoda.\nPar quelles technologies et en fonction de quelles idéologies la médecine participe-t-elle à façonner des corps « bien » sexués ? Comment les pratiques médicales contribuent-elles à l’établissement et au renouvellement des normes de sexe et de sexualité ? Les 8 études réunies dans ce livre permettent de saisir les interrogations et les doutes de la médecine face aux transgressions de sexe et de sexualité. Peut-on convertir un homosexuel en hétérosexuel ? Identifier le sexe d’une personne ? Embellir les organes génitaux féminins ? Discipliner le corps des femmes enceintes ? Et comment les personnes résistent-elles à la normalisation médicale en matière de contraception\, de disponibilité sexuelle ou de parcours de transition sexuelle ? Le livre permet de prendre la mesure des hésitations et des débats qui ont accompagné la constitution du savoir médical\, avec une attention particulière portée à l’histoire suisse récente. Il met en lumière la labilité des frontières entre normalité et pathologies et permet de saisir tant les continuités que les changements d’appréhension du genre depuis le siècle dernier.
URL:https://association-clef.ch/event/invitation-a-venir-discuter-du-theme-corps-formates-transformes-ajustes/
LOCATION:Tournesol\, Avenue d’Echallens 44\, Lausanne\, 1004\, Suisse
CATEGORIES:manifestation
ATTACH;FMTTYPE=image/png:https://association-clef.ch/wp-content/uploads/2020/01/event_heso.png
END:VEVENT
END:VCALENDAR